BEGIN:VCALENDAR
VERSION:2.0
PRODID:-//Contratero//ES
CALSCALE:GREGORIAN
METHOD:PUBLISH
BEGIN:VEVENT
UID:IPA 4/18@contratero.es
DTSTAMP:20260423T113250Z
DTSTART:20171205T235959
DTEND:20171206T005959
SUMMARY:Cierre: Servicio de desarrollo y evolución de aplicaciones
DESCRIPTION:Servicio de desarrollo y evolución de aplicaciones informáticas del Servicio Público de Empleo Estatal\\n\\nOrganismo: Dirección General del Servicio Público de Empleo Estatal\\n\\nVer en Contratero: https://contratero.es/contracts/IPA 4/18
URL:https://contratero.es/contracts/IPA 4/18
STATUS:CONFIRMED
BEGIN:VALARM
TRIGGER:-P1D
ACTION:DISPLAY
DESCRIPTION:Recordatorio: Servicio de desarrollo y evolu
END:VALARM
END:VEVENT
END:VCALENDAR